Workbook

Sheet Sheet1
A1: 2026年9月分散供养特困人员经费拨款计划
A2: 制表单位：零陵区民政局 | M2: 单位：元
A3: 单位 | B3: 总人数 | C3: 农村分散供养（拨银行） | F3: 城市分散供养（拨银行） | I3: 丧葬费（拨乡镇、街道） | K3: 应拨金额 | N3: 备注
C4: 户数 | D4: 人数 | E4: 供养金 | F4: 户数 | G4: 人数 | H4: 供养金 | I4: 死亡人数 | J4: 丧葬费 | K4: 银行 | L4: 乡镇、街道 | M4: 小计 | N4: 本月分散供养新增14户14人，取消2户2人，死亡12户12人，现有分散特困人员3215户，3250人。
A5: 朝阳 | B5: =D5+G5 -> 60 | C5: =COUNTIF([1]农村分散!I:I,A5) -> 44 | D5: =SUMIF([1]农村分散!I:I,A5,[1]农村分散!F:F) -> 45 | E5: =SUMIF([1]农村分散!I:I,A5,[1]农村分散!G:G) -> 30420 | F5: =COUNTIF([1]城市分散!H:H,A5) -> 14 | G5: =SUMIF([1]城市分散!H:H,A5,[1]城市分散!E:E) -> 15 | H5: =SUMIF([1]城市分散!H:H,A5,[1]城市分散!F:F) -> 15015 | I5: 1 | J5: 12012 | K5: =E5+H5 -> 45435 | L5: 12012 | M5: =K5+L5 -> 57447
A6: 大庆坪 | B6: =D6+G6 -> 211 | C6: =COUNTIF([1]农村分散!I:I,A6) -> 208 | D6: =SUMIF([1]农村分散!I:I,A6,[1]农村分散!F:F) -> 211 | E6: =SUMIF([1]农村分散!I:I,A6,[1]农村分散!G:G) -> 142636 | F6: =COUNTIF([1]城市分散!H:H,A6) -> 0 | G6: =SUMIF([1]城市分散!H:H,A6,[1]城市分散!E:E) -> 0 | H6: =SUMIF([1]城市分散!H:H,A6,[1]城市分散!F:F) -> 0 | I6: 1 | J6: 8112 | K6: =E6+H6 -> 142636 | L6: 8112 | M6: =K6+L6 -> 150748
A7: 凼底 | B7: =D7+G7 -> 143 | C7: =COUNTIF([1]农村分散!I:I,A7) -> 143 | D7: =SUMIF([1]农村分散!I:I,A7,[1]农村分散!F:F) -> 143 | E7: =SUMIF([1]农村分散!I:I,A7,[1]农村分散!G:G) -> 96668 | F7: =COUNTIF([1]城市分散!H:H,A7) -> 0 | G7: =SUMIF([1]城市分散!H:H,A7,[1]城市分散!E:E) -> 0 | H7: =SUMIF([1]城市分散!H:H,A7,[1]城市分散!F:F) -> 0 | K7: =E7+H7 -> 96668 | M7: =K7+L7 -> 96668
A8: 富家桥 | B8: =D8+G8 -> 350 | C8: =COUNTIF([1]农村分散!I:I,A8) -> 346 | D8: =SUMIF([1]农村分散!I:I,A8,[1]农村分散!F:F) -> 347 | E8: =SUMIF([1]农村分散!I:I,A8,[1]农村分散!G:G) -> 234572 | F8: =COUNTIF([1]城市分散!H:H,A8) -> 3 | G8: =SUMIF([1]城市分散!H:H,A8,[1]城市分散!E:E) -> 3 | H8: =SUMIF([1]城市分散!H:H,A8,[1]城市分散!F:F) -> 3003 | K8: =E8+H8 -> 237575 | M8: =K8+L8 -> 237575
A9: 黄田铺 | B9: =D9+G9 -> 230 | C9: =COUNTIF([1]农村分散!I:I,A9) -> 230 | D9: =SUMIF([1]农村分散!I:I,A9,[1]农村分散!F:F) -> 230 | E9: =SUMIF([1]农村分散!I:I,A9,[1]农村分散!G:G) -> 155480 | F9: =COUNTIF([1]城市分散!H:H,A9) -> 0 | G9: =SUMIF([1]城市分散!H:H,A9,[1]城市分散!E:E) -> 0 | H9: =SUMIF([1]城市分散!H:H,A9,[1]城市分散!F:F) -> 0 | I9: 2 | J9: 16224 | K9: =E9+H9 -> 155480 | L9: 16224 | M9: =K9+L9 -> 171704
A10: 接履桥 | B10: =D10+G10 -> 189 | C10: =COUNTIF([1]农村分散!I:I,A10) -> 188 | D10: =SUMIF([1]农村分散!I:I,A10,[1]农村分散!F:F) -> 188 | E10: =SUMIF([1]农村分散!I:I,A10,[1]农村分散!G:G) -> 127088 | F10: =COUNTIF([1]城市分散!H:H,A10) -> 1 | G10: =SUMIF([1]城市分散!H:H,A10,[1]城市分散!E:E) -> 1 | H10: =SUMIF([1]城市分散!H:H,A10,[1]城市分散!F:F) -> 1001 | I10: 1 | J10: 8112 | K10: =E10+H10 -> 128089 | L10: 8112 | M10: =K10+L10 -> 136201
A11: 菱角塘 | B11: =D11+G11 -> 217 | C11: =COUNTIF([1]农村分散!I:I,A11) -> 211 | D11: =SUMIF([1]农村分散!I:I,A11,[1]农村分散!F:F) -> 216 | E11: =SUMIF([1]农村分散!I:I,A11,[1]农村分散!G:G) -> 146016 | F11: =COUNTIF([1]城市分散!H:H,A11) -> 1 | G11: =SUMIF([1]城市分散!H:H,A11,[1]城市分散!E:E) -> 1 | H11: =SUMIF([1]城市分散!H:H,A11,[1]城市分散!F:F) -> 1001 | I11: 2 | J11: 16224 | K11: =E11+H11 -> 147017 | L11: 16224 | M11: =K11+L11 -> 163241
A12: 南津渡 | B12: =D12+G12 -> 44 | C12: =COUNTIF([1]农村分散!I:I,A12) -> 17 | D12: =SUMIF([1]农村分散!I:I,A12,[1]农村分散!F:F) -> 17 | E12: =SUMIF([1]农村分散!I:I,A12,[1]农村分散!G:G) -> 11492 | F12: =COUNTIF([1]城市分散!H:H,A12) -> 26 | G12: =SUMIF([1]城市分散!H:H,A12,[1]城市分散!E:E) -> 27 | H12: =SUMIF([1]城市分散!H:H,A12,[1]城市分散!F:F) -> 27027 | I12: 1 | J12: 12012 | K12: =E12+H12 -> 38519 | L12: 12012 | M12: =K12+L12 -> 50531
A13: 七里店 | B13: =D13+G13 -> 20 | C13: =COUNTIF([1]农村分散!I:I,A13) -> 7 | D13: =SUMIF([1]农村分散!I:I,A13,[1]农村分散!F:F) -> 7 | E13: =SUMIF([1]农村分散!I:I,A13,[1]农村分散!G:G) -> 4732 | F13: =COUNTIF([1]城市分散!H:H,A13) -> 13 | G13: =SUMIF([1]城市分散!H:H,A13,[1]城市分散!E:E) -> 13 | H13: =SUMIF([1]城市分散!H:H,A13,[1]城市分散!F:F) -> 13013 | I13: 1 | J13: 12012 | K13: =E13+H13 -> 17745 | L13: 12012 | M13: =K13+L13 -> 29757
A14: 石山脚 | B14: =D14+G14 -> 288 | C14: =COUNTIF([1]农村分散!I:I,A14) -> 279 | D14: =SUMIF([1]农村分散!I:I,A14,[1]农村分散!F:F) -> 288 | E14: =SUMIF([1]农村分散!I:I,A14,[1]农村分散!G:G) -> 194688 | F14: =COUNTIF([1]城市分散!H:H,A14) -> 0 | G14: =SUMIF([1]城市分散!H:H,A14,[1]城市分散!E:E) -> 0 | H14: =SUMIF([1]城市分散!H:H,A14,[1]城市分散!F:F) -> 0 | K14: =E14+H14 -> 194688 | M14: =K14+L14 -> 194688
A15: 石岩头 | B15: =D15+G15 -> 265 | C15: =COUNTIF([1]农村分散!I:I,A15) -> 262 | D15: =SUMIF([1]农村分散!I:I,A15,[1]农村分散!F:F) -> 264 | E15: =SUMIF([1]农村分散!I:I,A15,[1]农村分散!G:G) -> 178464 | F15: =COUNTIF([1]城市分散!H:H,A15) -> 1 | G15: =SUMIF([1]城市分散!H:H,A15,[1]城市分散!E:E) -> 1 | H15: =SUMIF([1]城市分散!H:H,A15,[1]城市分散!F:F) -> 1001 | I15: 2 | J15: 16224 | K15: =E15+H15 -> 179465 | L15: 16224 | M15: =K15+L15 -> 195689
A16: 梳子铺 | B16: =D16+G16 -> 245 | C16: =COUNTIF([1]农村分散!I:I,A16) -> 245 | D16: =SUMIF([1]农村分散!I:I,A16,[1]农村分散!F:F) -> 245 | E16: =SUMIF([1]农村分散!I:I,A16,[1]农村分散!G:G) -> 165620 | F16: =COUNTIF([1]城市分散!H:H,A16) -> 0 | G16: =SUMIF([1]城市分散!H:H,A16,[1]城市分散!E:E) -> 0 | H16: =SUMIF([1]城市分散!H:H,A16,[1]城市分散!F:F) -> 0 | I16: 1 | J16: 8112 | K16: =E16+H16 -> 165620 | L16: 8112 | M16: =K16+L16 -> 173732
A17: 水口山 | B17: =D17+G17 -> 294 | C17: =COUNTIF([1]农村分散!I:I,A17) -> 288 | D17: =SUMIF([1]农村分散!I:I,A17,[1]农村分散!F:F) -> 291 | E17: =SUMIF([1]农村分散!I:I,A17,[1]农村分散!G:G) -> 196716 | F17: =COUNTIF([1]城市分散!H:H,A17) -> 3 | G17: =SUMIF([1]城市分散!H:H,A17,[1]城市分散!E:E) -> 3 | H17: =SUMIF([1]城市分散!H:H,A17,[1]城市分散!F:F) -> 3003 | I17: 1 | J17: 8112 | K17: =E17+H17 -> 199719 | L17: 8112 | M17: =K17+L17 -> 207831
A18: 邮亭圩 | B18: =D18+G18 -> 382 | C18: =COUNTIF([1]农村分散!I:I,A18) -> 370 | D18: =SUMIF([1]农村分散!I:I,A18,[1]农村分散!F:F) -> 378 | E18: =SUMIF([1]农村分散!I:I,A18,[1]农村分散!G:G) -> 255528 | F18: =COUNTIF([1]城市分散!H:H,A18) -> 4 | G18: =SUMIF([1]城市分散!H:H,A18,[1]城市分散!E:E) -> 4 | H18: =SUMIF([1]城市分散!H:H,A18,[1]城市分散!F:F) -> 4004 | I18: 3 | J18: 24336 | K18: =E18+H18 -> 259532 | L18: 24336 | M18: =K18+L18 -> 283868
A19: 珠山 | B19: =D19+G19 -> 305 | C19: =COUNTIF([1]农村分散!I:I,A19) -> 300 | D19: =SUMIF([1]农村分散!I:I,A19,[1]农村分散!F:F) -> 301 | E19: =SUMIF([1]农村分散!I:I,A19,[1]农村分散!G:G) -> 203476 | F19: =COUNTIF([1]城市分散!H:H,A19) -> 4 | G19: =SUMIF([1]城市分散!H:H,A19,[1]城市分散!E:E) -> 4 | H19: =SUMIF([1]城市分散!H:H,A19,[1]城市分散!F:F) -> 4004 | I19: 2 | J19: 16224 | K19: =E19+H19 -> 207480 | L19: 16224 | M19: =K19+L19 -> 223704
A20: 徐家井 | B20: =D20+G20 -> 7 | F20: =COUNTIF([1]城市分散!H:H,A20) -> 7 | G20: =SUMIF([1]城市分散!H:H,A20,[1]城市分散!E:E) -> 7 | H20: =SUMIF([1]城市分散!H:H,A20,[1]城市分散!F:F) -> 7007 | K20: =E20+H20 -> 7007 | M20: =K20+L20 -> 7007
A21: 合 计 | B21: =D21+G21 -> 3250 | C21: =SUM(C5:C20) -> 3138 | D21: =SUM(D5:D20) -> 3171 | E21: =SUM(E5:E20) -> 2143596 | F21: =SUM(F5:F20) -> 77 | G21: =SUM(G5:G20) -> 79 | H21: =SUM(H5:H20) -> 79079 | I21: 18 | J21: 157716 | K21: =SUM(K5:K20) -> 2222675 | L21: 157716 | M21: 2380391
A22: 大写金额人民币:贰佰叁拾捌万零叁佰玖拾壹元整
A23: 制表人： | C23: 复核人： | F23: 审核人： | L23: 时间：2026年9月10日
